BEGIN:VCALENDAR
VERSION:2.0
PRODID:-//First Parish Unitarian Universalist of Arlington, MA - ECPv6.15.18//NONSGML v1.0//EN
CALSCALE:GREGORIAN
METHOD:PUBLISH
X-WR-CALNAME:First Parish Unitarian Universalist of Arlington, MA
X-ORIGINAL-URL:https://www.firstparish.info
X-WR-CALDESC:Events for First Parish Unitarian Universalist of Arlington, MA
REFRESH-INTERVAL;VALUE=DURATION:PT1H
X-Robots-Tag:noindex
X-PUBLISHED-TTL:PT1H
BEGIN:VTIMEZONE
TZID:America/New_York
BEGIN:DAYLIGHT
TZOFFSETFROM:-0500
TZOFFSETTO:-0400
TZNAME:EDT
DTSTART:20250309T070000
END:DAYLIGHT
BEGIN:STANDARD
TZOFFSETFROM:-0400
TZOFFSETTO:-0500
TZNAME:EST
DTSTART:20251102T060000
END:STANDARD
BEGIN:DAYLIGHT
TZOFFSETFROM:-0500
TZOFFSETTO:-0400
TZNAME:EDT
DTSTART:20260308T070000
END:DAYLIGHT
BEGIN:STANDARD
TZOFFSETFROM:-0400
TZOFFSETTO:-0500
TZNAME:EST
DTSTART:20261101T060000
END:STANDARD
BEGIN:DAYLIGHT
TZOFFSETFROM:-0500
TZOFFSETTO:-0400
TZNAME:EDT
DTSTART:20270314T070000
END:DAYLIGHT
BEGIN:STANDARD
TZOFFSETFROM:-0400
TZOFFSETTO:-0500
TZNAME:EST
DTSTART:20271107T060000
END:STANDARD
END:VTIMEZONE
BEGIN:VEVENT
DTSTART;VALUE=DATE:20260925
DTEND;VALUE=DATE:20260928
DTSTAMP:20260419T111103
CREATED:20250107T202217Z
LAST-MODIFIED:20260307T232757Z
UID:10001801-1790294400-1790553599@www.firstparish.info
SUMMARY:Ferry Beach Weekend in Saco\, Maine
DESCRIPTION:Registration is open for the 2026 Ferry Beach Retreat!\nCome one\, come all and register! \nDate: Friday September 25th (5pm) through Sunday September 27th (noon)\, 2026\nPlace: Ferry Beach Retreat and Conference Center\, 5 Boardwalk Drive\, Saco\, ME \nAll are welcome: members\, non-members\, families\, couples\, singles\, youth and children! It’s the perfect opportunity to get to know one another\, relax\, and have fun in community. \nWhether you are seeking connection and conversation or quiet and contemplation\, the Ferry Beach retreat has something for you!  If you’re looking for peace and solitude\, the campus is large\, the beach is on-site\, and the dining hall has a wonderful wrap-around porch filled with rocking chairs.  You’re welcome to be as active or low-key as you wish. There are numerous attendee-run activities including\, in the past\, yoga\, meditation\, group walks along the beach and/or through the woods\, a shopping trip to the Saco Goodwill\, art-making\, Frisbee golf outing\, card and board games\, puzzles and more!  And Saturday night boasts both a bonfire and the famous Talent/No Talent Show. \nLodging options include:\n\nCamping at the Ferry Beach campground (least expensive option)\nDorm rooms with twin/queen/bunk beds and shared bathrooms (most popular option)\nCabins/cottages with private baths (most expensive option)\nStay in a nearby motel and attend the retreat as a “commuter”(you arrange lodging for yourself)\n\nMeals are provided:\n\nThree on Saturday\, one on Sunday—no cooking or dishes! Yahoo!\nLunch on Sunday is an add-on this year –you’ll have the chance to choose it when you register. We hope everyone will stay for lunch after the service\, so we can wrap up the retreat together.\nDinner on Friday is also available as an add-on!\n\nNotes:\nWe will be sharing the campus with another group this year\, so the earlier you register\, the greater the likelihood that you receive your first choice of accommodation. \nThe Ferry Beach Retreat and Conference center is committed to accessibility and has made several improvements to the walkways and grounds in recent years. Please see the website for more details about accessible spaces/bathrooms. If you have accessibility needs\, please include specifics in the Notes section of the registration page. \nPlease don’t let cost be an obstacle. Scholarships are available. Contact either Rev. Jonipher or a member of the Committee for information prior to registering. \nUnlike prior to 2025 when registration for this event has been on Realm\, registration is now done through Ferry Beach’s online registration page. \nThree Registration Options:\n1. Staying On-site: Use this on-site link. Choose the room type (e.g. a queen room in Quillen).  There are detailed lodging descriptions on the registration page.\n2. Staying Off-Site (Commuter): If you are staying off-site but would like to have meals on campus\, use this commuter link.\n3. Youth Group Retreat: Registration link coming soon.  Please do not include your youth group member on your family registration.\n\nNotes on Registration:\n1. There is a “Notes” section towards the end of the registration process to provide additional information including requests for specific rooms/roommates\, ADA requirements\, and if you have requested a scholarship. Ferry Beach will make every effort to accommodate room requests\, but they cannot be guaranteed\, as room assignments may shift as people sign up who have specific needs\, rather than preferences.\n2. Ferry Beach asks for a 25% deposit at the time of registration\, but if that is not practical for you or you have requested a scholarship\, you may skip the payment field and your registration will still be made.\n3. We have established a $575 price cap for family groups who register for dorm accommodations.  The price cap does not apply if you choose to stay in the premium Cabins and Cottages. Please specify “Price Cap” in the Notes section if your registration total exceeds that cap.\n4. You are welcome to contact the Ferry Beach registration coordinator by phone to register or make adjustments to your online registration if needed.  Ferry Beach wants to make our registration experience as smooth as possible.\n\nDetails on rates:\n\n\n  scroll right  scroll left\n\n\n\n\nWeekend Cost \n\n\n\n\nDorm Rooms \n\n\n$190 \n\n\n\n\nCross Cabin \n\n\n$250 \n\n\n\n\nMetz Cabin \n\n\n$290 \n\n\n\n\nMorris/Kelley/Claflin Cottages \n\n\n$690 \n\n\n\n\nCamping \n\n\n$90 \n\n\n\n\n4 meals meal plan (18+) \n\n\n$73 (+$17 each for Fri dinner & Sun lunch) \n\n\n\n\n4 meals meal plan (9-17) \n\n\n$61 (+$14 each for Fri dinner & Sun lunch) \n\n\n\n\n4 meals meal plan (8 and under) \n\n\n$10 total (free for Fri dinner & Sun lunch) \n\n\n\n\nNote: a small portion of your registration fee goes to help fund scholarships for this event.  \n\n\nFor more information about Ferry Beach\, you can check out their website here: https://www.ferrybeach.org/\nAny questions about the retreat?   Or to join the committee (we’d love to have you!!)\, email the planning committee at ferrybeach@firstparish.info.\n\nCan’t wait to see you there!\nThe Ferry Beach Planning Committee\nAnnelise Aminoff\nJohn Chamberlain\nMonique Chaplin (chair)\nDavid D’Antonio\nMary McCartney\nMike Rie
URL:https://www.firstparish.info/event/ferry-beach-weekend-in-saco-maine/
LOCATION:Ferry Beach Retreat\, 5 Boardwalk Drive\, Saco\, ME\, 04072\, United States
CATEGORIES:Community,Gatherings,Outdoors
END:VEVENT
END:VCALENDAR